BEGIN:VCALENDAR
VERSION:2.0
PRODID:-//Squarespace Inc/Squarespace 6//v6//EN
BEGIN:VEVENT
UID:5877e110bebafbe87facadd2@squarespace.com
DTSTAMP:20170112T200417Z
DTSTART:20171229T120000Z
DTEND:20180101T213000Z
SUMMARY:OFFICE CLOSED - New Year's
END:VEVENT
END:VCALENDAR
