BEGIN:VCALENDAR
VERSION:2.0
PRODID:-//Squarespace Inc/Squarespace 6//v6//EN
BEGIN:VEVENT
UID:5877e06af5e2315b2dd31b7e@squarespace.com
DTSTAMP:20170112T200448Z
DTSTART:20171222T120000Z
DTEND:20171225T213000Z
SUMMARY:OFFICE CLOSED - Christmas
END:VEVENT
END:VCALENDAR
