BEGIN:VCALENDAR
VERSION:2.0
PRODID:-//Squarespace Inc/Squarespace 6//v6//EN
BEGIN:VEVENT
UID:5a396604419202c16af0f761@squarespace.com
DTSTAMP:20171219T192145Z
DTSTART:20180101T050000Z
DTEND:20180101T060000Z
SUMMARY:1st Qtr Union Dues
END:VEVENT
END:VCALENDAR
