BEGIN:VCALENDAR
VERSION:2.0
PRODID:-//Squarespace Inc/Squarespace 6//v6//EN
BEGIN:VEVENT
UID:5877dfe2b8a79b5e9a67f46f@squarespace.com
DTSTAMP:20170112T195905Z
DTSTART:20171214T223000Z
DTEND:20171214T233000Z
SUMMARY:Peoria Unit
GEO:41.984519;-88.142876
LOCATION:VFW 2602\, 1505 E. Lake St.\, Peoria Heights\, IL
END:VEVENT
END:VCALENDAR
