BEGIN:VCALENDAR
VERSION:2.0
PRODID:-//Squarespace Inc/Squarespace 6//v6//EN
BEGIN:VEVENT
UID:5877df7637c5812a574d1f5e@squarespace.com
DTSTAMP:20170112T195721Z
DTSTART:20171214T203000Z
DTEND:20171214T213000Z
SUMMARY:Decatur Unit
GEO:39.884232;-88.9355
LOCATION:IBEW Local 146\, 3390 North Woodford Street\, Decatur\, IL\, 62526
 \, United States
END:VEVENT
END:VCALENDAR
