BEGIN:VCALENDAR
VERSION:2.0
PRODID:-//Squarespace Inc/Squarespace 6//v6//EN
BEGIN:VEVENT
UID:5877df3e37c5812a574d1995@squarespace.com
DTSTAMP:20170112T195624Z
DTSTART:20171214T003000Z
DTEND:20171214T013000Z
SUMMARY:Jacksonville Unit
GEO:39.734909;-90.22799
LOCATION:AmVets Post 100\, 210 East Court Street\, Jacksonville\, IL\, 6265
 0\, United States
END:VEVENT
END:VCALENDAR
