BEGIN:VCALENDAR
VERSION:2.0
PRODID:-//Squarespace Inc/Squarespace 6//v6//EN
BEGIN:VEVENT
UID:5877deda1b631b1b2c8ab080@squarespace.com
DTSTAMP:20170112T195438Z
DTSTART:20171212T230000Z
DTEND:20171213T000000Z
SUMMARY:Bloomington Unit
GEO:40.443059;-89.023341
LOCATION:IBEW Local 197\, 2407 Beich Road\, Bloomington\, IL\, 61705\, Unit
 ed States
END:VEVENT
END:VCALENDAR
