BEGIN:VCALENDAR
VERSION:2.0
PRODID:-//Squarespace Inc/Squarespace 6//v6//EN
BEGIN:VEVENT
UID:5877d978bf629ab2764665da@squarespace.com
DTSTAMP:20170112T193151Z
DTSTART:20171109T223000Z
DTEND:20171109T233000Z
SUMMARY:Peoria Unit
GEO:41.984519;-88.142876
LOCATION:VFW 202\, 1505 E. Lake St.\, Peoria Heights\, IL
END:VEVENT
END:VCALENDAR
