BEGIN:VCALENDAR
VERSION:2.0
PRODID:-//Squarespace Inc/Squarespace 6//v6//EN
BEGIN:VEVENT
UID:5877d813f5e2315b2dd275a1@squarespace.com
DTSTAMP:20171109T201755Z
DTSTART:20171107T220000Z
DTEND:20171107T230000Z
SUMMARY:Galesburg Unit
GEO:40.917279;-90.293151
LOCATION:Knoxville American Legion\, 749 Henderson Road\, Knoxville\, IL\, 
 61448\, United States
END:VEVENT
END:VCALENDAR
