BEGIN:VCALENDAR
VERSION:2.0
PRODID:-//Squarespace Inc/Squarespace 6//v6//EN
BEGIN:VEVENT
UID:5877d79c46c3c4ee22009601@squarespace.com
DTSTAMP:20170112T192349Z
DTSTART:20171105T080000Z
DTEND:20171105T090000Z
SUMMARY:Daylight Savings Time Ends at 2:00 am
END:VEVENT
END:VCALENDAR
