BEGIN:VCALENDAR
VERSION:2.0
PRODID:-//Squarespace Inc/Squarespace 6//v6//EN
BEGIN:VEVENT
UID:5877d764e3df282baca13c5c@squarespace.com
DTSTAMP:20170112T192255Z
DTSTART:20171103T233000Z
DTEND:20171104T003000Z
SUMMARY:Construction Unit
GEO:39.743519;-89.714882
LOCATION:IBEW Local 51\, 3171 Green Head Drive\, Springfield\, IL\, 62711\, 
 United States
END:VEVENT
END:VCALENDAR
