BEGIN:VCALENDAR
VERSION:2.0
PRODID:-//Squarespace Inc/Squarespace 6//v6//EN
BEGIN:VEVENT
UID:5877dc282994caa705f7ffde@squarespace.com
DTSTAMP:20170112T194431Z
DTSTART:20171123T120000Z
DTEND:20171124T210000Z
SUMMARY:OFFICE CLOSED - Thanksgiving
END:VEVENT
END:VCALENDAR
