BEGIN:VCALENDAR
VERSION:2.0
PRODID:-//Squarespace Inc/Squarespace 6//v6//EN
BEGIN:VEVENT
UID:5877daa429687ffb17ec9945@squarespace.com
DTSTAMP:20170112T193655Z
DTSTART:20171111T050000Z
DTEND:20171111T060000Z
SUMMARY:Veteran's Day
END:VEVENT
END:VCALENDAR
