BEGIN:VCALENDAR
VERSION:2.0
PRODID:-//Squarespace Inc/Squarespace 6//v6//EN
BEGIN:VEVENT
UID:5877d9d32994caa705f7d47a@squarespace.com
DTSTAMP:20170112T193750Z
DTSTART:20171110T120000Z
DTEND:20171110T210000Z
SUMMARY:OFFICE CLOSED - Veteran's Day Observed
END:VEVENT
END:VCALENDAR
