BEGIN:VCALENDAR
VERSION:2.0
PRODID:-//Squarespace Inc/Squarespace 6//v6//EN
BEGIN:VEVENT
UID:5877d68c29687ffb17ec4c97@squarespace.com
DTSTAMP:20170112T191911Z
DTSTART:20171101T210000Z
DTEND:20171101T220000Z
SUMMARY:Lincoln Unit
GEO:40.140096;-89.348783
LOCATION:KC Hall\, 217 Limit Street\, Lincoln\, IL\, 62656\, United States
END:VEVENT
END:VCALENDAR
