BEGIN:VCALENDAR
VERSION:2.0
PRODID:-//Squarespace Inc/Squarespace 6//v6//EN
BEGIN:VEVENT
UID:5877d6bd86e6c00f05f662f3@squarespace.com
DTSTAMP:20170112T192004Z
DTSTART:20171101T220000Z
DTEND:20171101T230000Z
SUMMARY:LaSalle Unit
GEO:41.327869;-89.143939
LOCATION:Eagles Lodge\, 830 Harrison Street\, Peru\, IL\, 61354\, United St
 ates
END:VEVENT
END:VCALENDAR
