BEGIN:VCALENDAR
VERSION:2.0
PRODID:-//Squarespace Inc/Squarespace 6//v6//EN
BEGIN:VEVENT
UID:5877d64dc534a58408b1497c@squarespace.com
DTSTAMP:20170112T191823Z
DTSTART:20171101T200000Z
DTEND:20171101T210000Z
SUMMARY:Clinton Unit
GEO:40.150385;-88.943822
LOCATION:Elks Lodge #785\, 1520 E. South St.\, Clinton IL
END:VEVENT
END:VCALENDAR
