BEGIN:VCALENDAR
VERSION:2.0
PRODID:-//Squarespace Inc/Squarespace 6//v6//EN
BEGIN:VEVENT
UID:5877ba0bf5e23121ec0e8c4c@squarespace.com
DTSTAMP:20170112T171740Z
DTSTART:20171009T040000Z
DTEND:20171009T050000Z
SUMMARY:Columbus Day Observed
END:VEVENT
END:VCALENDAR
