BEGIN:VCALENDAR
VERSION:2.0
PRODID:-//Squarespace Inc/Squarespace 6//v6//EN
BEGIN:VEVENT
UID:5877d137b3db2b929614da31@squarespace.com
DTSTAMP:20170112T185651Z
DTSTART:20171005T210000Z
DTEND:20171005T220000Z
SUMMARY:Wood River Unit
GEO:39.884232;-88.9355
LOCATION:IBEW Local 309\, 3390 North Woodford Street\, Decatur\, IL\, 62526
 \, United States
END:VEVENT
END:VCALENDAR
