BEGIN:VCALENDAR
VERSION:2.0
PRODID:-//Squarespace Inc/Squarespace 6//v6//EN
BEGIN:VEVENT
UID:5877d1cbff7c5005ce6196b4@squarespace.com
DTSTAMP:20170112T185911Z
DTSTART:20171005T213000Z
DTEND:20171005T223000Z
SUMMARY:Springfield Unit
GEO:40.720756;-74.000761
LOCATION:IBEW Local 51
END:VEVENT
END:VCALENDAR
