BEGIN:VCALENDAR
VERSION:2.0
PRODID:-//Squarespace Inc/Squarespace 6//v6//EN
BEGIN:VEVENT
UID:5877bd9059cc68088d4885fb@squarespace.com
DTSTAMP:20170112T173318Z
DTSTART:20171004T210000Z
DTEND:20171004T220000Z
SUMMARY:Lincoln Unit
GEO:40.140096;-89.348783
LOCATION:KC Hall\, 217 Limit Street\, Lincoln\, IL\, 62656\, United States
END:VEVENT
END:VCALENDAR
