BEGIN:VCALENDAR
VERSION:2.0
PRODID:-//Squarespace Inc/Squarespace 6//v6//EN
BEGIN:VEVENT
UID:5877d6038419c2c583ff6040@squarespace.com
DTSTAMP:20170112T191709Z
DTSTART:20171031T040000Z
DTEND:20171031T050000Z
SUMMARY:Halloween
END:VEVENT
END:VCALENDAR
