BEGIN:VCALENDAR
VERSION:2.0
PRODID:-//Squarespace Inc/Squarespace 6//v6//EN
BEGIN:VEVENT
UID:5877bb38e4fcb5b50ed127d6@squarespace.com
DTSTAMP:20170112T172245Z
DTSTART:20171003T200000Z
DTEND:20171003T210000Z
SUMMARY:Havana Unit
GEO:42.162531;-94.203785
LOCATION:VFW\, 425 W. Ave.\, Havana\, IL
END:VEVENT
END:VCALENDAR
