BEGIN:VCALENDAR
VERSION:2.0
PRODID:-//Squarespace Inc/Squarespace 6//v6//EN
BEGIN:VEVENT
UID:5877bb736a49635f54279e88@squarespace.com
DTSTAMP:20170731T203713Z
DTSTART:20171005T210000Z
DTEND:20171005T220000Z
SUMMARY:Galesburg Unit
GEO:40.917279;-90.293151
LOCATION:Knoxville American Legion\, 749 Henderson Road\, Knoxville\, IL\, 
 61448\, United States
END:VEVENT
END:VCALENDAR
