BEGIN:VCALENDAR
VERSION:2.0
PRODID:-//Squarespace Inc/Squarespace 6//v6//EN
BEGIN:VEVENT
UID:5877baf08419c2c583fd9c84@squarespace.com
DTSTAMP:20170112T172140Z
DTSTART:20171002T110000Z
DTEND:20171002T200000Z
SUMMARY:FOURTH QUARTER UNION DUES
END:VEVENT
END:VCALENDAR
