BEGIN:VCALENDAR
VERSION:2.0
PRODID:-//Squarespace Inc/Squarespace 6//v6//EN
BEGIN:VEVENT
UID:5877d4ae20099ea8d10ce403@squarespace.com
DTSTAMP:20170112T191122Z
DTSTART:20171012T213000Z
DTEND:20171012T223000Z
SUMMARY:Peoria Unit
GEO:41.984519;-88.142876
LOCATION:VFW 2602\, 1505 E. Lake St.\, Peoria Heights\, IL
END:VEVENT
END:VCALENDAR
