BEGIN:VCALENDAR
VERSION:2.0
PRODID:-//Squarespace Inc/Squarespace 6//v6//EN
BEGIN:VEVENT
UID:5877d391a5790ae5a5dc1943@squarespace.com
DTSTAMP:20170112T190701Z
DTSTART:20171011T233000Z
DTEND:20171012T003000Z
SUMMARY:Jacksonville Unit
GEO:39.734909;-90.22799
LOCATION:AmVets Post 100\, 210 East Court Street\, Jacksonville\, IL\, 6265
 0\, United States
END:VEVENT
END:VCALENDAR
