BEGIN:VCALENDAR
VERSION:2.0
PRODID:-//Squarespace Inc/Squarespace 6//v6//EN
BEGIN:VEVENT
UID:5877d2f7f5e2315b2dd21df7@squarespace.com
DTSTAMP:20170112T190451Z
DTSTART:20171011T200000Z
DTEND:20171011T210000Z
SUMMARY:Baldwin Unit
GEO:38.325745;-89.878519
LOCATION:The Bullpen\, 101 North Van Buren Street\, New Athens\, IL\, 62264
 \, United States
END:VEVENT
END:VCALENDAR
