BEGIN:VCALENDAR
VERSION:2.0
PRODID:-//Squarespace Inc/Squarespace 6//v6//EN
BEGIN:VEVENT
UID:5877d282579fb331a13289d9@squarespace.com
DTSTAMP:20170112T190204Z
DTSTART:20171010T213000Z
DTEND:20171010T223000Z
SUMMARY:Champaign Unit
GEO:40.13117;-88.252501
LOCATION:VFW Post 5520\, 609 Edgebrook Drive\, Champaign\, IL\, 61820\, Uni
 ted States
END:VEVENT
END:VCALENDAR
