BEGIN:VCALENDAR
VERSION:2.0
PRODID:-//Squarespace Inc/Squarespace 6//v6//EN
BEGIN:VEVENT
UID:5874f1462e69cf4dcbf2bc79@squarespace.com
DTSTAMP:20170111T184630Z
DTSTART:20170128T140000Z
DTEND:20170128T150000Z
SUMMARY:Executive Board
GEO:39.743519;-89.714882
LOCATION:IBEW Local 51\, 3171 Green Head Drive\, Springfield\, IL\, 62711\, 
 United States
END:VEVENT
END:VCALENDAR
