BEGIN:VCALENDAR
VERSION:2.0
PRODID:-//Squarespace Inc/Squarespace 6//v6//EN
BEGIN:VEVENT
UID:587515e21e5b6c9bfefaa078@squarespace.com
DTSTAMP:20170110T171230Z
DTSTART:20170116T050000Z
DTEND:20170116T060000Z
SUMMARY:Martin Luther King\, Jr. Day
END:VEVENT
END:VCALENDAR
