BEGIN:VCALENDAR
VERSION:2.0
PRODID:-//Squarespace Inc/Squarespace 6//v6//EN
BEGIN:VEVENT
UID:5874f0d329687f7cd5e800fb@squarespace.com
DTSTAMP:20170111T152649Z
DTSTART:20170114T140000Z
DTEND:20170114T180000Z
SUMMARY:ALBAT Training
GEO:39.841698;-88.91482
LOCATION:Ameren\, 231 South 27th Street\, Decatur\, IL\, 62521\, United Sta
 tes
END:VEVENT
END:VCALENDAR
