BEGIN:VCALENDAR
VERSION:2.0
PRODID:-//Squarespace Inc/Squarespace 6//v6//EN
BEGIN:VEVENT
UID:5874f099b8a79bc9a7952456@squarespace.com
DTSTAMP:20170110T143335Z
DTSTART:20170114T003000Z
DTEND:20170114T013000Z
SUMMARY:Construction Unit
GEO:39.743519;-89.714882
LOCATION:IBEW Local 51\, 3171 Green Head Drive\, Springfield\, IL\, 62711\, 
 United States
END:VEVENT
END:VCALENDAR
