BEGIN:VCALENDAR
VERSION:2.0
PRODID:-//Squarespace Inc/Squarespace 6//v6//EN
BEGIN:VEVENT
UID:5874f043440243faed479201@squarespace.com
DTSTAMP:20170110T143238Z
DTSTART:20170112T223000Z
DTEND:20170112T233000Z
SUMMARY:Peoria Unit
GEO:40.739255;-89.570437
LOCATION:VFW 2602\, 1505 E. Lake St.\, Peoria Heights\, IL\, USA
END:VEVENT
END:VCALENDAR
