BEGIN:VCALENDAR
VERSION:2.0
PRODID:-//Squarespace Inc/Squarespace 6//v6//EN
BEGIN:VEVENT
UID:5875155dcd0f68e66cafad47@squarespace.com
DTSTAMP:20170110T171011Z
DTSTART:20170101T050000Z
DTEND:20170101T060000Z
SUMMARY:Happy New Year!
END:VEVENT
END:VCALENDAR
