BEGIN:VCALENDAR
VERSION:2.0
PRODID:-//Squarespace Inc/Squarespace 6//v6//EN
BEGIN:VEVENT
UID:56d9a90127d4bdab5359bd08@squarespace.com
DTSTAMP:20160304T152623Z
DTSTART:20170101T120000Z
DTEND:20170101T130000Z
SUMMARY:FIRST QUARTER UNION DUES
END:VEVENT
END:VCALENDAR
