BEGIN:VCALENDAR
VERSION:2.0
PRODID:-//Squarespace Inc/Squarespace 6//v6//EN
BEGIN:VEVENT
UID:56d74e34e321409b934c755c@squarespace.com
DTSTAMP:20160302T203452Z
DTSTART:20160909T233000Z
DTEND:20160910T003000Z
SUMMARY:Construction Unit
GEO:39.743431;-89.712268
LOCATION:IBEW Local 51\, 3171 Greenhead Drive\, Springfield\, IL\, 62711\, 
 United States
END:VEVENT
END:VCALENDAR
