BEGIN:VCALENDAR
VERSION:2.0
PRODID:-//Squarespace Inc/Squarespace 6//v6//EN
BEGIN:VEVENT
UID:56d74daea3360cdd16fca6cc@squarespace.com
DTSTAMP:20160302T203245Z
DTSTART:20160908T213000Z
DTEND:20160908T223000Z
SUMMARY:Peoria Unit
GEO:40.739454;-89.570558
LOCATION:VFW 2602\, 1505 East Lake St.\, Peoria Heights\, IL\, 61616\, Unit
 ed States
END:VEVENT
END:VCALENDAR
