BEGIN:VCALENDAR
VERSION:2.0
PRODID:-//Squarespace Inc/Squarespace 6//v6//EN
BEGIN:VEVENT
UID:56d74be5ab48def0679ce250@squarespace.com
DTSTAMP:20160302T202502Z
DTSTART:20160907T210000Z
DTEND:20160907T220000Z
SUMMARY:Lincoln Unit
GEO:40.148377;-89.364818
LOCATION:KC Hall\, Lincoln\, IL\, USA
END:VEVENT
END:VCALENDAR
