BEGIN:VCALENDAR
VERSION:2.0
PRODID:-//Squarespace Inc/Squarespace 6//v6//EN
BEGIN:VEVENT
UID:56d7472d07eaa05009584bfb@squarespace.com
DTSTAMP:20160302T200443Z
DTSTART:20160906T200000Z
DTEND:20160906T210000Z
SUMMARY:Havana Unit
GEO:41.603289;-87.518429
LOCATION:VFW\, 425 W. Ave.\, Havana\, IL\, USA
END:VEVENT
END:VCALENDAR
