BEGIN:VCALENDAR
VERSION:2.0
PRODID:-//Squarespace Inc/Squarespace 6//v6//EN
BEGIN:VEVENT
UID:56d7476f07eaa05009584ec1@squarespace.com
DTSTAMP:20160421T202111Z
DTSTART:20160906T210000Z
DTEND:20160906T220000Z
SUMMARY:Galesburg Unit
GEO:40.951079;-90.361045
LOCATION:American Legion\, 571 E. North St.\, Galesburg\, IL\, USA
END:VEVENT
END:VCALENDAR
