BEGIN:VCALENDAR
VERSION:2.0
PRODID:-//Squarespace Inc/Squarespace 6//v6//EN
BEGIN:VEVENT
UID:56d7435af85082043e3875bb@squarespace.com
DTSTAMP:20160829T142814Z
DTSTART:20160905T110000Z
DTEND:20160905T200000Z
SUMMARY:Labor Day
END:VEVENT
END:VCALENDAR
