BEGIN:VCALENDAR
VERSION:2.0
PRODID:-//Squarespace Inc/Squarespace 6//v6//EN
BEGIN:VEVENT
UID:56d743b6f699bb41e6c01c58@squarespace.com
DTSTAMP:20160303T213117Z
DTSTART:20160922T050000Z
DTEND:20160922T060000Z
SUMMARY:Autumn Begins
END:VEVENT
END:VCALENDAR
