BEGIN:VCALENDAR
VERSION:2.0
PRODID:-//Squarespace Inc/Squarespace 6//v6//EN
BEGIN:VEVENT
UID:56d74f502b8dde44a00a1afe@squarespace.com
DTSTAMP:20160302T203935Z
DTSTART:20160913T220000Z
DTEND:20160913T230000Z
SUMMARY:Bloomington Unit
GEO:40.443059;-89.023341
LOCATION:IBEW Local 197\, 2407 Beich Road\, Bloomington\, IL\, 61705\, Unit
 ed States
END:VEVENT
END:VCALENDAR
