BEGIN:VCALENDAR
VERSION:2.0
PRODID:-//Squarespace Inc/Squarespace 6//v6//EN
BEGIN:VEVENT
UID:56d746ae59827e4e23535103@squarespace.com
DTSTAMP:20160829T143630Z
DTSTART:20160901T210000Z
DTEND:20160901T220000Z
SUMMARY:Wood River Unit
GEO:38.921163;-90.172522
LOCATION:IBEW Local 309\, 2000A Mall Street\, Rt. 157\, Collinsville\, IL  
 62234\, United States
END:VEVENT
END:VCALENDAR
