BEGIN:VCALENDAR
VERSION:2.0
PRODID:-//Squarespace Inc/Squarespace 6//v6//EN
BEGIN:VEVENT
UID:56d746ef01dbae7a6d778e95@squarespace.com
DTSTAMP:20160302T200336Z
DTSTART:20160901T213000Z
DTEND:20160901T223000Z
SUMMARY:Springfield Unit
GEO:39.743431;-89.712268
LOCATION:IBEW Local 51\, 3171 Greenhead Drive\, Springfield\, IL\, 62711\, 
 United States
END:VEVENT
END:VCALENDAR
