BEGIN:VCALENDAR
VERSION:2.0
PRODID:-//Squarespace Inc/Squarespace 6//v6//EN
BEGIN:VEVENT
UID:56d721b927d4bd014383ad0e@squarespace.com
DTSTAMP:20160302T172447Z
DTSTART:20160803T210000Z
DTEND:20160803T220000Z
SUMMARY:Lincoln Unit
GEO:32.728328;-97.109346
LOCATION:KC Hall\, Lincoln\, IL
END:VEVENT
END:VCALENDAR
