BEGIN:VCALENDAR
VERSION:2.0
PRODID:-//Squarespace Inc/Squarespace 6//v6//EN
BEGIN:VEVENT
UID:56d721743c44d8d80d6c5c29@squarespace.com
DTSTAMP:20160302T172340Z
DTSTART:20160803T200000Z
DTEND:20160803T210000Z
SUMMARY:Clinton Unit
GEO:40.150385;-88.943822
LOCATION:Elks Lodge #785\, 1520 E. South St.\, Clinton IL\, USA
END:VEVENT
END:VCALENDAR
