BEGIN:VCALENDAR
VERSION:2.0
PRODID:-//Squarespace Inc/Squarespace 6//v6//EN
BEGIN:VEVENT
UID:56d7200722482e1e2c86d31b@squarespace.com
DTSTAMP:20160302T171754Z
DTSTART:20160827T130000Z
DTEND:20160827T160000Z
SUMMARY:Executive Board
GEO:32.459749;-104.142986
LOCATION:IBEW Local 51\, 3171 Greenhead Drive\, Springfield\, IL\, 62711\, 
 United States
END:VEVENT
END:VCALENDAR
