BEGIN:VCALENDAR
VERSION:2.0
PRODID:-//Squarespace Inc/Squarespace 6//v6//EN
BEGIN:VEVENT
UID:571937a74d088eb62f13cb37@squarespace.com
DTSTAMP:20160421T202719Z
DTSTART:20160820T160000Z
DTEND:20160820T200000Z
SUMMARY:Local 51 Annual Picnic
GEO:39.743519;-89.714882
LOCATION:IBEW Local 51\, 3171 Green Head Drive\, Springfield\, IL\, 62711\, 
 United States
END:VEVENT
END:VCALENDAR
